BEGIN:VCALENDAR
VERSION:2.0
PRODID:-//Archdiocese of Thiruvalla - ECPv6.13.2.1//NONSGML v1.0//EN
CALSCALE:GREGORIAN
METHOD:PUBLISH
X-ORIGINAL-URL:http://catholicarchdioceseoftiruvalla.com
X-WR-CALDESC:Events for Archdiocese of Thiruvalla
REFRESH-INTERVAL;VALUE=DURATION:PT1H
X-Robots-Tag:noindex
X-PUBLISHED-TTL:PT1H
BEGIN:VTIMEZONE
TZID:UTC
BEGIN:STANDARD
TZOFFSETFROM:+0000
TZOFFSETTO:+0000
TZNAME:UTC
DTSTART:20200101T000000
END:STANDARD
END:VTIMEZONE
BEGIN:VEVENT
DTSTART;TZID=UTC:20201103T000000
DTEND;TZID=UTC:20201103T235900
DTSTAMP:20260423T201139
CREATED:20201103T044713Z
LAST-MODIFIED:20201103T104603Z
UID:27064-1604361600-1604447940@catholicarchdioceseoftiruvalla.com
SUMMARY:Honorable Paulos Mar Pelaxino's Father's Memorial -  Church is celebrating on November 3th...
DESCRIPTION:പുനരൈക്യത്തിന്റെ മഹാപ്രേഷിതൻ\nഅഭിവന്ദ്യ പൗലോസ് മാർ പീലക്സിനോസ് പിതാവിന്റെ ഓർമ്മപ്പെരുന്നാൾ സഭ നവംബർ 3 ന് ആഘോഷിക്കുന്നു..
URL:http://catholicarchdioceseoftiruvalla.com/event/27064/
LOCATION:St.Johns Cathedral \,Tiruvalla\, Kerala\, 689101\, India
CATEGORIES:MCYM
ATTACH;FMTTYPE=image/jpeg:http://catholicarchdioceseoftiruvalla.com/wp-content/uploads/2020/11/Image-7.jpg
END:VEVENT
END:VCALENDAR