BEGIN:VCALENDAR
VERSION:2.0
PRODID:-//Archdiocese of Thiruvalla - ECPv6.13.2.1//NONSGML v1.0//EN
CALSCALE:GREGORIAN
METHOD:PUBLISH
X-WR-CALNAME:Archdiocese of Thiruvalla
X-ORIGINAL-URL:http://catholicarchdioceseoftiruvalla.com
X-WR-CALDESC:Events for Archdiocese of Thiruvalla
REFRESH-INTERVAL;VALUE=DURATION:PT1H
X-Robots-Tag:noindex
X-PUBLISHED-TTL:PT1H
BEGIN:VTIMEZONE
TZID:UTC
BEGIN:STANDARD
TZOFFSETFROM:+0000
TZOFFSETTO:+0000
TZNAME:UTC
DTSTART:20240101T000000
END:STANDARD
END:VTIMEZONE
BEGIN:VEVENT
DTSTART;TZID=UTC:20240514T080000
DTEND;TZID=UTC:20240514T170000
DTSTAMP:20260423T210614
CREATED:20240514T063716Z
LAST-MODIFIED:20240514T063826Z
UID:33179-1715673600-1715706000@catholicarchdioceseoftiruvalla.com
SUMMARY:St. Thomas Day
DESCRIPTION:St. Thomas Day celecbrated at St. John’s Metrapolitan Cathedral\, Thiruvalla
URL:http://catholicarchdioceseoftiruvalla.com/event/st-thomas-day/
ATTACH;FMTTYPE=image/jpeg:http://catholicarchdioceseoftiruvalla.com/wp-content/uploads/2024/05/00-1.jpg
END:VEVENT
END:VCALENDAR