BEGIN:VCALENDAR
VERSION:2.0
PRODID:-//Archdiocese of Thiruvalla - ECPv6.13.2.1//NONSGML v1.0//EN
CALSCALE:GREGORIAN
METHOD:PUBLISH
X-WR-CALNAME:Archdiocese of Thiruvalla
X-ORIGINAL-URL:http://catholicarchdioceseoftiruvalla.com
X-WR-CALDESC:Events for Archdiocese of Thiruvalla
REFRESH-INTERVAL;VALUE=DURATION:PT1H
X-Robots-Tag:noindex
X-PUBLISHED-TTL:PT1H
BEGIN:VTIMEZONE
TZID:UTC
BEGIN:STANDARD
TZOFFSETFROM:+0000
TZOFFSETTO:+0000
TZNAME:UTC
DTSTART:20200101T000000
END:STANDARD
END:VTIMEZONE
BEGIN:VEVENT
DTSTART;VALUE=DATE:20201128
DTEND;VALUE=DATE:20201129
DTSTAMP:20260423T182141
CREATED:20201103T072646Z
LAST-MODIFIED:20201105T043307Z
UID:27071-1606521600-1606607999@catholicarchdioceseoftiruvalla.com
SUMMARY:Religious  Conference
DESCRIPTION:xx
URL:http://catholicarchdioceseoftiruvalla.com/event/holly-mass/
END:VEVENT
END:VCALENDAR