BEGIN:VCALENDAR
VERSION:2.0
PRODID:-//Archdiocese of Thiruvalla - ECPv6.13.2.1//NONSGML v1.0//EN
CALSCALE:GREGORIAN
METHOD:PUBLISH
X-WR-CALNAME:Archdiocese of Thiruvalla
X-ORIGINAL-URL:http://catholicarchdioceseoftiruvalla.com
X-WR-CALDESC:Events for Archdiocese of Thiruvalla
REFRESH-INTERVAL;VALUE=DURATION:PT1H
X-Robots-Tag:noindex
X-PUBLISHED-TTL:PT1H
BEGIN:VTIMEZONE
TZID:UTC
BEGIN:STANDARD
TZOFFSETFROM:+0000
TZOFFSETTO:+0000
TZNAME:UTC
DTSTART:20200101T000000
END:STANDARD
END:VTIMEZONE
BEGIN:VEVENT
DTSTART;TZID=UTC:20201112T080000
DTEND;TZID=UTC:20201112T170000
DTSTAMP:20260423T172142
CREATED:20201103T113933Z
LAST-MODIFIED:20201103T113933Z
UID:27097-1605168000-1605200400@catholicarchdioceseoftiruvalla.com
SUMMARY:Church Day Celebration
DESCRIPTION:
URL:http://catholicarchdioceseoftiruvalla.com/event/church-day-celebration/
END:VEVENT
END:VCALENDAR